BEGIN:VCALENDAR
VERSION:2.0
PRODID:-//sebbo.net//ical-generator//EN
NAME:polinet koblenz
X-WR-CALNAME:polinet koblenz
BEGIN:VEVENT
UID:5c7e853a52f40b243dca2693@polinet-koblenz.de
SEQUENCE:0
DTSTAMP:20260421T103955Z
DTSTART:20190307T173000Z
DTEND:20190307T173000Z
SUMMARY:Weltladen-Abend
LOCATION:Weltladen Koblenz\,  Josef-Görres-Platz 13\, 56068 Koblenz 
DESCRIPTION:Das Weltladen-Team trifft sich einmal monatlich\, um aktuelle 
 Themen aus dem Weltladenbetrieb zu besprechen. Dazu gibt es Veranstaltungs
 hinweise und sonstige Infos rund um den Fairen Handel.\n\nGäste sind willk
 ommen\; sie können den Weltladen und uns bei dieser Gelegenheit kennenlern
 en. Vielleicht entwickelt sich daraus Interesse an einer ehrenamtlichen Tä
 tigkeit im Weltladen. Wir würden uns freuen.
URL;VALUE=URI:http://www.weltladen-koblenz.de
STATUS:CONFIRMED
END:VEVENT
END:VCALENDAR