BEGIN:VCALENDAR
VERSION:2.0
PRODID:-//sebbo.net//ical-generator//EN
NAME:polinet koblenz
X-WR-CALNAME:polinet koblenz
BEGIN:VEVENT
UID:5cd85fd613f6f70d6c2731b0@polinet-koblenz.de
SEQUENCE:0
DTSTAMP:20260421T024435Z
DTSTART:20190517T120000Z
DTEND:20190517T160000Z
SUMMARY:Jubiläumsfeier Weltladen - 40 Jahre fair gehandelt
LOCATION:Weltladen Koblenz\,  Josef-Görres-Platz 13\, 56068 Koblenz 
DESCRIPTION:Der Weltladen Koblenz setzt sich seit 40 Jahren für fairen und
  gerechten Handel sowie menschenwürdige Arbeitsbedingungen bei den Produze
 nten – vor allem im Süden - ein. Aus diesem Anlass lädt er zu einem Jubilä
 umsfest ein am Freitag\, 17.05.\, ab 14:00 Uhr\, auf den Josef-Görres-Plat
 z. Bei Live-Musik gibt es kostenlos Kaffee und Kuchen sowie Verkostungen a
 us dem Sortiment des Fairen Handels\; dazu auch ein Unterhaltungsprogramm 
 für Kinder. Gäste können ausserdem über das neue Design für die Koblenz-Sc
 hokolade abstimmen und auch im Weltladen selbst nach Herzenslust stöbern. 
 Der Weltladen freut sich auf zahlreiche Gäste aus Koblenz und Umgebung.
STATUS:CONFIRMED
END:VEVENT
END:VCALENDAR