BEGIN:VCALENDAR
VERSION:2.0
PRODID:-//sebbo.net//ical-generator//EN
NAME:polinet koblenz
X-WR-CALNAME:polinet koblenz
BEGIN:VEVENT
UID:6437cd129d8e2c4f52ce104b@polinet-koblenz.de
SEQUENCE:0
DTSTAMP:20260422T174711Z
DTSTART:20230508T103000Z
DTEND:20230508T103000Z
SUMMARY:Lebensraum Weinberg – Exkursion durch Hatzenport
LOCATION:Bahnhof Hatzenport
DESCRIPTION:Am Montag\, den 08. Mai 2023\, finden zwei sehr spannende Exku
 rsionen im Rahmen der „Woche der Artenvielfalt“ und „Artenvielfalt rockt d
 ie Mosel“ in Hatzenport statt. Diese werden geleitet von Marc Schendzielor
 z\, Referent im Netzwerk Umweltbildung Rhein-Mosel.\n\nDie Weinbaulandscha
 ft bietet mit ihrer reichen Kulturlandschaft einzigartige Lebensräume für 
 zahlreiche Tier- und Pflanzenarten. In den Weinbergen der Steillagen an de
 r Mosel wird dabei die gestaltende Kraft der Menschen besonders ersichtlic
 h. Mit der Pflanzenvielfalt geht eine reiche Insektenfauna einher. Diese w
 iederum ist die Nahrungsgrundlage für Eidechsen\, Schlangen\, Kleinsäuger 
 und Vögel.\n\nDie erste Veranstaltung “Lebensraum Weinberg – Exkursion dur
 ch Hatzenport” startet um 12:30 Uhr. Dabei wird besonders auf die Pflanzen
 \, Reptilien und Insekten geachtet\, die Ihren Weg kreuzen.\n\nDie zweite 
 Veranstaltung “Vogelstimmen-Exkursion durch Hatzenport” beginnt um 18:00 U
 hr. Das Gehör spielt dabei die wichtigste Rolle. Machen Sie sich auf die S
 uche nach den Gesangs-Solisten\, die unser Vogelstimmenorchester im Mai pr
 ägen.\n\nDie Teilnahme an den Veranstaltungen ist kostenfrei\, die Teilnah
 megebühr wird gesponsert über das Projekt „Mehr als nur Grün“.\n\nAnmeldun
 gen bitte bei Lina Jaeger: Tel.: 0261/108-417 oder per E-Mail: Lina.Jaeger
 @kvmyk.de
URL;VALUE=URI:http://www.mehr-als-nur-gruen.de
STATUS:CONFIRMED
END:VEVENT
END:VCALENDAR