BEGIN:VCALENDAR
VERSION:2.0
PRODID:-//sebbo.net//ical-generator//EN
NAME:polinet koblenz
X-WR-CALNAME:polinet koblenz
BEGIN:VEVENT
UID:6437cd489d8e2c4f52ce104c@polinet-koblenz.de
SEQUENCE:0
DTSTAMP:20260422T174807Z
DTSTART:20230514T120000Z
DTEND:20230514T120000Z
SUMMARY:Krautschau – Stadtbotanik-Exkursion
LOCATION:Kirchplatz\, 56170 Bendorf
DESCRIPTION:Am Sonntag\, den 14.05.2023 (1. Termin 11:00 Uhr\, 2. Termin 1
 4:00 Uhr) suchen wir die pflanzlichen Überlebenskünstler\, die in Ritzen\,
  Pflaster- und Mauerfugen ihr Leben fristen. In Deutschland gibt es ca. 50
 0 Arten\, die der Tritt- und Fahrbelastung\, der Hitze\, Bodenverdichtung 
 und Verschmutzung trotzen\, die diese besonderen Standorte in Städten kenn
 zeichnen. Auch sie bilden wertvolle Mikro-Ökosysteme für zahlreiche Insekt
 en und andere Organismen.\n\nBewaffnet mit Pflanzenbestimmungs-Apps und re
 ichlich Kreide machen sich die Teilnehmer unter Leitung von Claudia Janetz
 ki-Mittmann auf die Suche. Die ersten dieser Überlebenskünstler werden ras
 ch entdeckt und mit Kreide eingekreist. Mit Pflanzen-Bestimmungs-Apps könn
 en die Pflasterhelden schnell identifiziert werden. Mit Kreide werden die 
 Pflanzennamen auf das Pflaster geschrieben und somit Spaziergänger sichtba
 r gemacht.\n\nDer Teilnahmebetrag beträgt 10\,00 €
URL;VALUE=URI:http://www.vhs-bendorf.de/
STATUS:CONFIRMED
END:VEVENT
END:VCALENDAR