BEGIN:VCALENDAR
VERSION:2.0
PRODID:-//sebbo.net//ical-generator//EN
NAME:polinet koblenz
X-WR-CALNAME:polinet koblenz
BEGIN:VEVENT
UID:6631be40159a8e3dfa9778cd@polinet-koblenz.de
SEQUENCE:0
DTSTAMP:20260419T223819Z
DTSTART:20240612T120000Z
DTEND:20240612T160000Z
SUMMARY:Friedenskinder e.V. Koblenz
LOCATION:KUB.A - Koblenzer Umwelt-Büro\, Kornpfortstraße 15\, 56068 Koblen
 z
DESCRIPTION:Jeder Interessierte ist herzlich eingeladen\, jeden Mittwoch v
 on 14.00 Uhr bis 18.00 Uhr in unser Büro vorbeizukommen\, um mit uns Konta
 kt aufzunehmen. Gerne vereinbaren wir auch andere Termine mit ihnen. Wir f
 reuen uns über Ihren Besuch.
URL;VALUE=URI:http://www.friedenskinder.de/
STATUS:CONFIRMED
END:VEVENT
END:VCALENDAR