BEGIN:VCALENDAR
VERSION:2.0
PRODID:-//sebbo.net//ical-generator//EN
NAME:polinet koblenz
X-WR-CALNAME:polinet koblenz
BEGIN:VEVENT
UID:663b190b67422f2ba22281c5@polinet-koblenz.de
SEQUENCE:0
DTSTAMP:20260421T115549Z
DTSTART:20240515T160000Z
DTEND:20240515T183000Z
SUMMARY:#nachgefragt - Junge Menschen fragen die Politik
LOCATION:Jugendtreff Maulwurf\, im Kurt Esser Haus\, Markenbildchenweg 38\
 , 56068 Koblenz
DESCRIPTION:Die Diskussionsveranstaltung zur Kommunalwahl und euren Themen
 ! Geplant\, organisiert und moderiert von jungen Menschen aus Koblenz für 
 Jugendliche & junge Erwachsene zwischen 14 und 25.\n\nIhr wollt Politiker*
 innen aus Koblenz mit euren Fragen löchern und spannende Auseinandersetzun
 gen sehen? Dann kommt bei #nachgefragt vorbei. Alles läuft nach dem Motto 
 „Deine Fragen – Ihre Antworten“ und wir garantieren: es wird spannende und
  hitzige Diskussionen geben! \n\nNach klaren Regeln werden die Vorstellung
 en und Pläne der Politiker*innen zu den Themen Klima\, Freizeit und sozial
 e Gerechtigkeit debattiert – allgemein aber auch ganz konkret für Koblenz 
 und Region. Wenn euch dazu keine Fragen einfallen\, keine Sorge – wir sind
  vorbereitet! \n\n--------------------------------------\nEine Veranstaltu
 ng in Kooperation mit dem Jugendrat Koblenz\, dem Kinder- und Jugendbüro K
 oblenz\, der Jugendkunstwerkstatt Koblenz und der SSV Koblenz und geförder
 t vom Bundesministerium für Familie\, Senioren\, Frauen und Jugend im Rahm
 en des Bundesprogramms „Demokratie leben!“ 
URL;VALUE=URI:https://hfgg.de/events/event/nachgefragt-junge-menschen-frag
 en-die-politik/
STATUS:CONFIRMED
END:VEVENT
END:VCALENDAR