BEGIN:VCALENDAR
VERSION:2.0
PRODID:-//sebbo.net//ical-generator//EN
NAME:polinet koblenz
X-WR-CALNAME:polinet koblenz
BEGIN:VEVENT
UID:671b68bf094c431deb608c46@polinet-koblenz.de
SEQUENCE:0
DTSTAMP:20260425T181159Z
DTSTART:20241109T130000Z
DTEND:20241109T170000Z
SUMMARY:Apfelfest der \"Schäl Seit\"
LOCATION:Mehrzweckhalle der Grundschule Immendorf\, Schloßhofstraße 32
DESCRIPTION:Abschluss der Streuobstsaison am 9. November 2024.\n\nWie in d
 en Vorjahren bildet das Apfelfest der „Schäl Seit“ den Abschluss der Streu
 obstsaison. Am Samstag\, 9. November 2024\, 14.00 Uhr bis 18.00 Uhr\, ist 
 es wieder soweit: alle Interessierten sind herzlich in die Mehrzweckhalle 
 der Grundschule Immendorf\, Schloßhofstraße 32\, eingeladen.\nBesondere Hi
 ghlights sind die Möglichkeit der Sortenbestimmung anhand mitgebrachter Fr
 üchte und die Ausstellung alt bewährter Apfel- und Birnen-Sorten\, die ein
 en kleinen Einblick in die Sortenvielfalt von Äpfeln und Birnen gewährt. N
 eben der Ausstellung steht der Pomologe Richard Dahlem all jenen mit seine
 m Fachwissen zur Seite\, die einen Apfelbaum besitzen\, von dem sie aber n
 icht wissen\, um welche Sorte es sich handelt. Bringen Sie dem Fachmann 3 
 – 5 Früchte des fraglichen Baumes mit\, damit er die Sorte bestimmen kann.
  Vielleicht haben Sie ja ein besonders seltenes Exemplar im Garten stehen.
  Schließlich gibt es hierzulande über 1000 verschiedene Apfelsorten.\nNatü
 rlich gibt es auch in diesem Jahr wieder den ersten „Schäl Seit“-Saft der 
 neuen Ernte. Daneben gibt es Streuobstprodukte (Apfelchips\, Apfelbrände u
 nd –liköre)\, Kartoffeln aus regionalem Anbau und Honig eines Immendorfer 
 Imkers und weitere regionale Produkte zu kaufen.\nFür die kleinen Besucher
 innen und Besucher gibt es in diesem Jahr die Möglichkeit mit dem Nabu Nis
 tkästen zu bauen. Die Bonsai-Show ist wie jedes Jahr fester Bestandteil de
 r Veranstaltung. Daneben gibt es Infos zum Thema Streuobst und Natur. Wer 
 sich eine kleine Pause gönnen will\, kann sich diese mit Kaffee und Kuchen
  und dem neuen Saft der „Schäl Seit“ versüßen.\nOffiziell eröffnet wird di
 e Veranstaltung um 14.00 Uhr durch Oberbürgermeister David Langner.\n
STATUS:CONFIRMED
END:VEVENT
END:VCALENDAR