BEGIN:VCALENDAR
VERSION:2.0
PRODID:-//sebbo.net//ical-generator//EN
NAME:polinet koblenz
X-WR-CALNAME:polinet koblenz
BEGIN:VEVENT
UID:671bf79c094c431deb608c5f@polinet-koblenz.de
SEQUENCE:0
DTSTAMP:20260424T021944Z
DTSTART:20241115T170000Z
DTEND:20241115T170000Z
SUMMARY:HAXKO e.V. (gemeinnützig)\, Hacker- und Makerspace für den Großrau
 m Mayen-Koblenz
LOCATION:Andernach Bahnhof
DESCRIPTION:             Wir sind technikinteressierte Menschen\, die gern
 e zusammen an Projekten tüfteln und Bildung\, Kunst und Kultur im technisc
 hen Bereich vorantreiben. Wir heißen alle Interessierten – egal ob mit wen
 ig oder viel Erfahrung – herzlich willkommen.\n\nEin wichtiges aktuelles V
 orhaben unseres gemeinnützigen Vereins haxko e.V. ist der weitere Aufbau u
 nseres Hacker- und Makerspace für den Großraum Mayen-Koblenz. In unserem S
 pace organisieren wir regelmäßige Treffen\, präsentieren unsere Projekte b
 ei Veranstaltungen und betreiben Austausch und Weiterbildung.\"\"\"\"\"\"\
 "\"\"\"\"\"\"
URL;VALUE=URI:https://haxko.space/
STATUS:CONFIRMED
END:VEVENT
END:VCALENDAR